BEGIN:VCALENDAR
VERSION:2.0
PRODID:spatie/icalendar-generator
DESCRIPTION:Veranstaltungen von Bürgerinitiative Rumpenheim e. V. 1973
X-WR-CALDESC:Veranstaltungen von Bürgerinitiative Rumpenheim e. V. 1973
REFRESH-INTERVAL;VALUE=DURATION:PT1440M
X-PUBLISHED-TTL:PT1440M
BEGIN:VTIMEZONE
TZID:Europe/Berlin
BEGIN:DAYLIGHT
DTSTART:20160327T020000Z
TZOFFSETFROM:+0100
TZOFFSETTO:+0200
END:DAYLIGHT
BEGIN:STANDARD
DTSTART:20161030T030000Z
TZOFFSETFROM:+0200
TZOFFSETTO:+0100
END:STANDARD
END:VTIMEZONE
BEGIN:VTIMEZONE
TZID:UTC
BEGIN:STANDARD
DTSTART:20250726T192333Z
TZOFFSETFROM:+0000
TZOFFSETTO:+0000
END:STANDARD
END:VTIMEZONE
BEGIN:VEVENT
UID:875-87
DTSTAMP:20260422T192333Z
SUMMARY:Lesekreis um Christa Männche
LOCATION:
ORGANIZER;CN=Andreas Richter:MAILTO:andreas-r@web.de
DTSTART;TZID=Europe/Berlin:20160829T173000
DTEND;TZID=Europe/Berlin:20160829T193000
X-ALT-DESC;FMTTYPE=TEXT/HTML:Am 29. August wollen wir über das Buch \"Tier
 garten\" sprechen.
CATEGORIES:extern
URL;VALUE=URI:https://bi-rumpenheim.org/mc-events/lesekreis-um-christa-maen
 nche-17/
METHOD:PUBLISH
END:VEVENT
END:VCALENDAR