BEGIN:VCALENDAR
VERSION:2.0
PRODID:spatie/icalendar-generator
DESCRIPTION:Veranstaltungen von Bürgerinitiative Rumpenheim e. V. 1973
X-WR-CALDESC:Veranstaltungen von Bürgerinitiative Rumpenheim e. V. 1973
REFRESH-INTERVAL;VALUE=DURATION:PT1440M
X-PUBLISHED-TTL:PT1440M
BEGIN:VTIMEZONE
TZID:Europe/Berlin
BEGIN:DAYLIGHT
DTSTART:20230326T020000Z
TZOFFSETFROM:+0100
TZOFFSETTO:+0200
END:DAYLIGHT
BEGIN:STANDARD
DTSTART:20231029T030000Z
TZOFFSETFROM:+0200
TZOFFSETTO:+0100
END:STANDARD
END:VTIMEZONE
BEGIN:VTIMEZONE
TZID:UTC
BEGIN:STANDARD
DTSTART:20250726T230039Z
TZOFFSETFROM:+0000
TZOFFSETTO:+0000
END:STANDARD
END:VTIMEZONE
BEGIN:VEVENT
UID:1211-258
DTSTAMP:20260422T230039Z
SUMMARY:Jubiläumsveranstaltung 50 Jahre BIR
LOCATION:BIR-Treff Landgraf-Friedrich-Straße 1  Offenbach  63075
ORGANIZER;CN=Andreas Richter:MAILTO:andreas-r@web.de
DTSTART;TZID=Europe/Berlin;VALUE=DATE:20230902
DTEND;TZID=Europe/Berlin;VALUE=DATE:20230903
X-ALT-DESC;FMTTYPE=TEXT/HTML:
CATEGORIES:extern
URL;VALUE=URI:https://bi-rumpenheim.org/mc-events/jubilaeumsveranstaltung-5
 0-jahre-bir/
METHOD:PUBLISH
END:VEVENT
END:VCALENDAR