BEGIN:VCALENDAR
VERSION:2.0
PRODID:spatie/icalendar-generator
DESCRIPTION:Veranstaltungen von Bürgerinitiative Rumpenheim e. V. 1973
X-WR-CALDESC:Veranstaltungen von Bürgerinitiative Rumpenheim e. V. 1973
REFRESH-INTERVAL;VALUE=DURATION:PT1440M
X-PUBLISHED-TTL:PT1440M
BEGIN:VTIMEZONE
TZID:Europe/Berlin
BEGIN:DAYLIGHT
DTSTART:20150329T020000Z
TZOFFSETFROM:+0100
TZOFFSETTO:+0200
END:DAYLIGHT
BEGIN:STANDARD
DTSTART:20151025T030000Z
TZOFFSETFROM:+0200
TZOFFSETTO:+0100
END:STANDARD
END:VTIMEZONE
BEGIN:VTIMEZONE
TZID:UTC
BEGIN:STANDARD
DTSTART:20250723T152851Z
TZOFFSETFROM:+0000
TZOFFSETTO:+0000
END:STANDARD
END:VTIMEZONE
BEGIN:VEVENT
UID:846-52
DTSTAMP:20260419T152851Z
SUMMARY:Tag des Offenen Denkmals
LOCATION:Schlosskirche Rumpenheim Schlossgartenstraße  Offenbach  63075
ORGANIZER;CN=Andreas Richter:MAILTO:andreas-r@web.de
DTSTART;TZID=Europe/Berlin:20150913T150000
DTEND;TZID=Europe/Berlin:20150914T180000
X-ALT-DESC;FMTTYPE=TEXT/HTML:Thematisch geht es bei diesem Tag des Offenen 
 Denkmals um Handwerk\, Technik und Industrie. Wir wollen uns dem Handwerk 
 des Orgelbaus widmen. Ein Mitarbeiter der Firma Förster und Nicolaus\, d
 ie die Orgel erneuert hat\, Rainer Roska\, wird sein Handwerk am Beispiel 
 der Rumpenheimer Orgel erläutern. Anschließend wird Carmenio Ferrulli d
 ie Orgel zum Klingen bringen. Zwischen 15 und&amp;hellip\;
CATEGORIES:extern
URL;VALUE=URI:https://bi-rumpenheim.org/mc-events/tag-des-offenen-denkmals-
 2/
METHOD:PUBLISH
END:VEVENT
END:VCALENDAR