BEGIN:VCALENDAR
VERSION:2.0
PRODID:spatie/icalendar-generator
DESCRIPTION:Veranstaltungen von Bürgerinitiative Rumpenheim e. V. 1973
X-WR-CALDESC:Veranstaltungen von Bürgerinitiative Rumpenheim e. V. 1973
REFRESH-INTERVAL;VALUE=DURATION:PT1440M
X-PUBLISHED-TTL:PT1440M
BEGIN:VTIMEZONE
TZID:Europe/Berlin
BEGIN:DAYLIGHT
DTSTART:20180325T020000Z
TZOFFSETFROM:+0100
TZOFFSETTO:+0200
END:DAYLIGHT
BEGIN:STANDARD
DTSTART:20181028T030000Z
TZOFFSETFROM:+0200
TZOFFSETTO:+0100
END:STANDARD
BEGIN:DAYLIGHT
DTSTART:20190331T020000Z
TZOFFSETFROM:+0100
TZOFFSETTO:+0200
END:DAYLIGHT
END:VTIMEZONE
BEGIN:VTIMEZONE
TZID:UTC
BEGIN:STANDARD
DTSTART:20250724T155132Z
TZOFFSETFROM:+0000
TZOFFSETTO:+0000
END:STANDARD
END:VTIMEZONE
BEGIN:VEVENT
UID:1082-167
DTSTAMP:20260420T155132Z
SUMMARY:Schlosspark-Begehung
LOCATION:Schlosspark
ORGANIZER;CN=Andreas Richter:MAILTO:andreas-r@web.de
DTSTART;TZID=Europe/Berlin:20181106T110000
DTEND;TZID=Europe/Berlin:20181106T123000
X-ALT-DESC;FMTTYPE=TEXT/HTML:Beitrag
CATEGORIES:extern
URL;VALUE=URI:https://bi-rumpenheim.org/mc-events/schlosspark-begehung-3/
METHOD:PUBLISH
END:VEVENT
END:VCALENDAR