BEGIN:VCALENDAR
VERSION:2.0
PRODID:spatie/icalendar-generator
DESCRIPTION:Veranstaltungen von Bürgerinitiative Rumpenheim e. V. 1973
X-WR-CALDESC:Veranstaltungen von Bürgerinitiative Rumpenheim e. V. 1973
REFRESH-INTERVAL;VALUE=DURATION:PT1440M
X-PUBLISHED-TTL:PT1440M
BEGIN:VTIMEZONE
TZID:Europe/Berlin
BEGIN:STANDARD
DTSTART:20191027T030000Z
TZOFFSETFROM:+0200
TZOFFSETTO:+0100
END:STANDARD
BEGIN:DAYLIGHT
DTSTART:20200329T020000Z
TZOFFSETFROM:+0100
TZOFFSETTO:+0200
END:DAYLIGHT
BEGIN:STANDARD
DTSTART:20201025T030000Z
TZOFFSETFROM:+0200
TZOFFSETTO:+0100
END:STANDARD
END:VTIMEZONE
BEGIN:VTIMEZONE
TZID:UTC
BEGIN:STANDARD
DTSTART:20250727T222620Z
TZOFFSETFROM:+0000
TZOFFSETTO:+0000
END:STANDARD
END:VTIMEZONE
BEGIN:VEVENT
UID:1141-200
DTSTAMP:20260423T222620Z
SUMMARY:Pflanzaktion Breite Straße
LOCATION:
ORGANIZER;CN=Andreas Richter:MAILTO:andreas-r@web.de
DTSTART;TZID=Europe/Berlin:20200509T100000
DTEND;TZID=Europe/Berlin:20200509T123000
X-ALT-DESC;FMTTYPE=TEXT/HTML:Bepflanzen der Rabatte in der Breite Straße m
 it Rosen und Lavendel
CATEGORIES:extern
URL;VALUE=URI:https://bi-rumpenheim.org/mc-events/pflanzaktion-breite-stras
 se/
METHOD:PUBLISH
END:VEVENT
END:VCALENDAR