BEGIN:VCALENDAR
VERSION:2.0
PRODID:spatie/icalendar-generator
DESCRIPTION:Veranstaltungen von Bürgerinitiative Rumpenheim e. V. 1973
X-WR-CALDESC:Veranstaltungen von Bürgerinitiative Rumpenheim e. V. 1973
REFRESH-INTERVAL;VALUE=DURATION:PT1440M
X-PUBLISHED-TTL:PT1440M
BEGIN:VTIMEZONE
TZID:Europe/Berlin
BEGIN:STANDARD
DTSTART:20131027T030000Z
TZOFFSETFROM:+0200
TZOFFSETTO:+0100
END:STANDARD
BEGIN:DAYLIGHT
DTSTART:20140330T020000Z
TZOFFSETFROM:+0100
TZOFFSETTO:+0200
END:DAYLIGHT
END:VTIMEZONE
BEGIN:VTIMEZONE
TZID:UTC
BEGIN:STANDARD
DTSTART:20250727T232803Z
TZOFFSETFROM:+0000
TZOFFSETTO:+0000
END:STANDARD
END:VTIMEZONE
BEGIN:VEVENT
UID:193-15
DTSTAMP:20260423T232803Z
SUMMARY:Lesekreis um Christa Männche
LOCATION:BIR-Treff Landgraf-Friedrich-Straße 1  Offenbach  63075
ORGANIZER;CN=Andreas Richter:MAILTO:andreas-r@web.de
DTSTART;TZID=Europe/Berlin:20140410T190000
DTEND;TZID=Europe/Berlin:20140410T032500
X-ALT-DESC;FMTTYPE=TEXT/HTML:Buch \"Sand\" von Wolfgang Herrndorfer
CATEGORIES:extern
URL;VALUE=URI:https://bi-rumpenheim.org/mc-events/lesekreis-um-christa-maen
 nche-4/
METHOD:PUBLISH
END:VEVENT
END:VCALENDAR